BEGIN:VCALENDAR
VERSION:2.0
PRODID:-//CERN//INDICO//EN
BEGIN:VEVENT
SUMMARY:тестова подія
DTSTART:20260416T160000Z
DTEND:20260416T180000Z
DTSTAMP:20260422T203300Z
UID:indico-event-2@conference.tdmu.edu.ua
DESCRIPTION:Speakers: Михайло Сяра\n\nhttps://conference.tdmu.e
 du.ua/event/2/
IMAGE;VALUE=URI:https://conference.tdmu.edu.ua/event/2/logo-1644845764.png
LOCATION:3 аудиторія (тернопіль)
URL:https://conference.tdmu.edu.ua/event/2/
END:VEVENT
END:VCALENDAR
