BEGIN:VCALENDAR
VERSION:2.0
PRODID:-//CERN//INDICO//EN
BEGIN:VEVENT
SUMMARY:Еуіе
DTSTART:20260416T140000Z
DTEND:20260416T160000Z
DTSTAMP:20260422T221800Z
UID:indico-event-1@conference.tdmu.edu.ua
DESCRIPTION:https://conference.tdmu.edu.ua/event/1/
URL:https://conference.tdmu.edu.ua/event/1/
END:VEVENT
END:VCALENDAR
